BEGIN:VCALENDAR
VERSION:2.0
PRODID:-//ZContent.net//Zap Calendar 1.0//EN
CALSCALE:GREGORIAN
METHOD:PUBLISH
BEGIN:VEVENT
DTSTAMP:20260424T164255
UID:20221018T090000@energyhub.eu/2289
DTSTART:20221018T090000
DTEND:20221019T173000
SUMMARY:Smart Energy Fórum - Současnost a budoucnost moderní energetiky
LOCATION: Kongresové centrum Hotel Artemis **** a O2 Universum v Praze
DESCRIPTION:Smart Energy Fórum - Současnost a budoucnost moderní energetiky: Kongresové centrum Hotel Artemis **** a O2 Universum v Praze
LAST-MODIFIED:20260424T164255
END:VEVENT
END:VCALENDAR
