BEGIN:VCALENDAR
VERSION:2.0
PRODID:-//ZContent.net//Zap Calendar 1.0//EN
CALSCALE:GREGORIAN
METHOD:PUBLISH
BEGIN:VEVENT
DTSTAMP:20260424T122720
UID:20210916T090000@energyhub.eu/2119
DTSTART:20210916T090000
DTEND:20210917T170000
SUMMARY:Jesenná konferencia SPNZ
LOCATION: Horný Smokovec
DESCRIPTION:Jesenná konferencia SPNZ: Horný Smokovec
LAST-MODIFIED:20260424T122720
END:VEVENT
END:VCALENDAR
